{
 "version": 1.0,
 "tileBundlesPath": "./tile",
 "storageInfo": {
  "packetSize": 128,
  "storageFormat": "esriMapCacheStorageModeCompactV2"
 },
 "tileImageInfo": {
  "format": "MIXED",
  "compressionQuality": 75,
  "bandCount": 1,
  "lercError": 0
 },
 "tileInfo": {
  "spatialReference": {
   "wkid": 3794,
   "latestWkid": 3794
  },
  "origin": {
   "x": -5122600,
   "y": 5001100
  },
  "rows": 256,
  "cols": 256,
  "dpi": 96,
  "lods": [
   {
    "level": 0,
    "resolution": 138718.1441029549,
    "scale": 524288000
   },
   {
    "level": 1,
    "resolution": 69359.07205147744,
    "scale": 262144000
   },
   {
    "level": 2,
    "resolution": 34679.53602573872,
    "scale": 131072000
   },
   {
    "level": 3,
    "resolution": 17339.76801286936,
    "scale": 65536000
   },
   {
    "level": 4,
    "resolution": 8669.88400643468,
    "scale": 32768000
   },
   {
    "level": 5,
    "resolution": 4334.94200321734,
    "scale": 16384000
   },
   {
    "level": 6,
    "resolution": 2167.47100160867,
    "scale": 8192000
   },
   {
    "level": 7,
    "resolution": 1083.735500804335,
    "scale": 4096000
   },
   {
    "level": 8,
    "resolution": 541.8677504021675,
    "scale": 2048000
   },
   {
    "level": 9,
    "resolution": 270.93387520108377,
    "scale": 1024000
   },
   {
    "level": 10,
    "resolution": 135.46693760054188,
    "scale": 512000
   },
   {
    "level": 11,
    "resolution": 67.73346880027094,
    "scale": 256000
   },
   {
    "level": 12,
    "resolution": 33.86673440013547,
    "scale": 128000
   },
   {
    "level": 13,
    "resolution": 16.933367200067735,
    "scale": 64000
   },
   {
    "level": 14,
    "resolution": 8.466683600033868,
    "scale": 32000
   },
   {
    "level": 15,
    "resolution": 4.233341800016934,
    "scale": 16000
   },
   {
    "level": 16,
    "resolution": 2.116670900008467,
    "scale": 8000
   },
   {
    "level": 17,
    "resolution": 1.0583354500042335,
    "scale": 4000
   },
   {
    "level": 18,
    "resolution": 0.5291677250021167,
    "scale": 2000
   },
   {
    "level": 19,
    "resolution": 0.26458386250105836,
    "scale": 1000
   },
   {
    "level": 20,
    "resolution": 0.13229193125052918,
    "scale": 500
   },
   {
    "level": 21,
    "resolution": 0.06614596562526459,
    "scale": 250
   },
   {
    "level": 22,
    "resolution": 0.033072982812632296,
    "scale": 125
   },
   {
    "level": 23,
    "resolution": 0.016536491406316148,
    "scale": 62.5
   }
  ],
  "format": "MIXED",
  "compressionQuality": 75,
  "bandCount": 1,
  "lercError": 0,
  "storageFormat": "esriMapCacheStorageModeCompactV2",
  "packetSize": 128
 },
 "name": "Layers",
 "serviceDescription": "",
 "spatialReference": {
  "wkid": 3794,
  "latestWkid": 3794,
  "vcsWkid": 5195,
  "latestVcsWkid": 5195,
  "xyTolerance": 0.001,
  "zTolerance": 0.001,
  "mTolerance": 0.001,
  "falseX": -5122600,
  "falseY": -15001100,
  "xyUnits": 10000,
  "falseZ": -100000,
  "zUnits": 10000,
  "falseM": -100000,
  "mUnits": 10000
 },
 "units": "esriMeters",
 "minLOD": 0,
 "maxLOD": 17,
 "resampling": true,
 "layers": [
  {
   "id": 0,
   "name": "TOPO_SLO_CB",
   "parentLayerId": -1,
   "defaultVisibility": true,
   "subLayerIds": [
    1,
    5,
    9,
    13,
    17,
    21
   ],
   "minScale": 0,
   "maxScale": 0,
   "type": "Group Layer",
   "supportsDynamicLegends": false,
   "layerId": 0,
   "layerName": "TOPO_SLO_CB",
   "serviceItemId": "96ed9c65f3c24634844378534f6b9a73"
  },
  {
   "id": 1,
   "name": "TTN5",
   "parentLayerId": 0,
   "defaultVisibility": true,
   "subLayerIds": [
    2,
    3,
    4
   ],
   "minScale": 5000,
   "maxScale": 0,
   "type": "Mosaic Layer",
   "supportsDynamicLegends": false,
   "layerId": 1,
   "layerName": "TTN5",
   "serviceItemId": "96ed9c65f3c24634844378534f6b9a73"
  },
  {
   "id": 2,
   "name": "Boundary",
   "parentLayerId": 1,
   "defaultVisibility": false,
   "subLayerIds": null,
   "minScale": 0,
   "maxScale": 0,
   "type": "Feature Layer",
   "geometryType": "esriGeometryPolygon",
   "supportsDynamicLegends": true,
   "legend": [
    {
     "label": "",
     "imageData": "iVBORw0KGgoAAAANSUhEUgAAABQAAAAUCAYAAACNiR0NAAAAAXNSR0IB2cksfwAAAAlwSFlzAAAOxAAADsQBlSsOGwAAADxJREFUOI3t1SESADAIA8Ewk/9/+TqtQxNXTiBXxGAECuZ7SlUJDMEDk3nBcZ4TvQXnOWC0FvxmQ4Jv4ADvTAlL2W8b0gAAAABJRU5ErkJggg==",
     "contentType": "image/png",
     "groupId": "0",
     "height": 20,
     "width": 20,
     "layerId": 2,
     "layerName": "Boundary"
    }
   ],
   "layerId": 2,
   "layerName": "Boundary",
   "serviceItemId": "96ed9c65f3c24634844378534f6b9a73"
  },
  {
   "id": 3,
   "name": "Footprint",
   "parentLayerId": 1,
   "defaultVisibility": false,
   "subLayerIds": null,
   "minScale": 0,
   "maxScale": 0,
   "type": "Feature Layer",
   "geometryType": "esriGeometryPolygon",
   "supportsDynamicLegends": true,
   "legend": [
    {
     "label": "",
     "imageData": "iVBORw0KGgoAAAANSUhEUgAAABQAAAAUCAYAAACNiR0NAAAAAXNSR0IB2cksfwAAAAlwSFlzAAAOxAAADsQBlSsOGwAAADtJREFUOI3t1SEOADAMQlGacP8rs2RT1eDGF5VPYEoIQjDeO5iIJuiBwVjQjj6xK+jHgLEq+M+Gyr2BA6LtBk3z6rXNAAAAAElFTkSuQmCC",
     "contentType": "image/png",
     "groupId": "0",
     "height": 20,
     "width": 20,
     "layerId": 3,
     "layerName": "Footprint"
    }
   ],
   "layerId": 3,
   "layerName": "Footprint",
   "serviceItemId": "96ed9c65f3c24634844378534f6b9a73"
  },
  {
   "id": 4,
   "name": "Image",
   "parentLayerId": 1,
   "defaultVisibility": true,
   "subLayerIds": null,
   "minScale": 0,
   "maxScale": 0,
   "type": "Raster Layer",
   "supportsDynamicLegends": true,
   "legend": [
    {
     "label": "High : 1 - Low : 0",
     "imageData": "iVBORw0KGgoAAAANSUhEUgAAABQAAAA8CAYAAABmdppWAAAAAXNSR0IB2cksfwAAAAlwSFlzAAAOxAAADsQBlSsOGwAAAHxJREFUWIXtldENADEIQvvR/cdtUwV7NwQfJNYBXiIgzqq6QzgTwGgGzMxuK8New3ymNHAZ9sGGPTAiuq2MfsBQu0xSC8RrGz9TzjndXgDtgw37S6FaQ6qB0e/rpdrlUGtYVeb1Rftg4+XQLzZrLS1wiGfKgXtvLVBK+2Ef+fqp8PA5QBQAAAAASUVORK5CYII=",
     "contentType": "image/png",
     "groupId": "0",
     "height": 60,
     "width": 20,
     "layerId": 4,
     "layerName": "Image"
    }
   ],
   "layerId": 4,
   "layerName": "Image",
   "serviceItemId": "96ed9c65f3c24634844378534f6b9a73"
  },
  {
   "id": 5,
   "name": "DTK25",
   "parentLayerId": 0,
   "defaultVisibility": true,
   "subLayerIds": [
    6,
    7,
    8
   ],
   "minScale": 25000,
   "maxScale": 5001,
   "type": "Mosaic Layer",
   "supportsDynamicLegends": false,
   "layerId": 5,
   "layerName": "DTK25",
   "serviceItemId": "96ed9c65f3c24634844378534f6b9a73"
  },
  {
   "id": 6,
   "name": "Boundary",
   "parentLayerId": 5,
   "defaultVisibility": false,
   "subLayerIds": null,
   "minScale": 0,
   "maxScale": 0,
   "type": "Feature Layer",
   "geometryType": "esriGeometryPolygon",
   "supportsDynamicLegends": true,
   "legend": [
    {
     "label": "",
     "imageData": "iVBORw0KGgoAAAANSUhEUgAAABQAAAAUCAYAAACNiR0NAAAAAXNSR0IB2cksfwAAAAlwSFlzAAAOxAAADsQBlSsOGwAAADxJREFUOI3t1SESADAIA8Ewk/9/+TqtQxNXTiBXxGAECuZ7SlUJDMEDk3nBcZ4TvQXnOWC0FvxmQ4Jv4ADvTAlL2W8b0gAAAABJRU5ErkJggg==",
     "contentType": "image/png",
     "groupId": "0",
     "height": 20,
     "width": 20,
     "layerId": 6,
     "layerName": "Boundary"
    }
   ],
   "layerId": 6,
   "layerName": "Boundary",
   "serviceItemId": "96ed9c65f3c24634844378534f6b9a73"
  },
  {
   "id": 7,
   "name": "Footprint",
   "parentLayerId": 5,
   "defaultVisibility": false,
   "subLayerIds": null,
   "minScale": 0,
   "maxScale": 0,
   "type": "Feature Layer",
   "geometryType": "esriGeometryPolygon",
   "supportsDynamicLegends": true,
   "legend": [
    {
     "label": "",
     "imageData": "iVBORw0KGgoAAAANSUhEUgAAABQAAAAUCAYAAACNiR0NAAAAAXNSR0IB2cksfwAAAAlwSFlzAAAOxAAADsQBlSsOGwAAADtJREFUOI3t1SEOADAMQlGacP8rs2RT1eDGF5VPYEoIQjDeO5iIJuiBwVjQjj6xK+jHgLEq+M+Gyr2BA6LtBk3z6rXNAAAAAElFTkSuQmCC",
     "contentType": "image/png",
     "groupId": "0",
     "height": 20,
     "width": 20,
     "layerId": 7,
     "layerName": "Footprint"
    }
   ],
   "layerId": 7,
   "layerName": "Footprint",
   "serviceItemId": "96ed9c65f3c24634844378534f6b9a73"
  },
  {
   "id": 8,
   "name": "Image",
   "parentLayerId": 5,
   "defaultVisibility": true,
   "subLayerIds": null,
   "minScale": 0,
   "maxScale": 0,
   "type": "Raster Layer",
   "supportsDynamicLegends": true,
   "legend": [
    {
     "label": "High : 1 - Low : 0",
     "imageData": "iVBORw0KGgoAAAANSUhEUgAAABQAAAA8CAYAAABmdppWAAAAAXNSR0IB2cksfwAAAAlwSFlzAAAOxAAADsQBlSsOGwAAAHxJREFUWIXtldENADEIQvvR/cdtUwV7NwQfJNYBXiIgzqq6QzgTwGgGzMxuK8New3ymNHAZ9sGGPTAiuq2MfsBQu0xSC8RrGz9TzjndXgDtgw37S6FaQ6qB0e/rpdrlUGtYVeb1Rftg4+XQLzZrLS1wiGfKgXtvLVBK+2Ef+fqp8PA5QBQAAAAASUVORK5CYII=",
     "contentType": "image/png",
     "groupId": "0",
     "height": 60,
     "width": 20,
     "layerId": 8,
     "layerName": "Image"
    }
   ],
   "layerId": 8,
   "layerName": "Image",
   "serviceItemId": "96ed9c65f3c24634844378534f6b9a73"
  },
  {
   "id": 9,
   "name": "DTK50",
   "parentLayerId": 0,
   "defaultVisibility": true,
   "subLayerIds": [
    10,
    11,
    12
   ],
   "minScale": 50000,
   "maxScale": 25001,
   "type": "Mosaic Layer",
   "supportsDynamicLegends": false,
   "layerId": 9,
   "layerName": "DTK50",
   "serviceItemId": "96ed9c65f3c24634844378534f6b9a73"
  },
  {
   "id": 10,
   "name": "Boundary",
   "parentLayerId": 9,
   "defaultVisibility": false,
   "subLayerIds": null,
   "minScale": 0,
   "maxScale": 0,
   "type": "Feature Layer",
   "geometryType": "esriGeometryPolygon",
   "supportsDynamicLegends": true,
   "legend": [
    {
     "label": "",
     "imageData": "iVBORw0KGgoAAAANSUhEUgAAABQAAAAUCAYAAACNiR0NAAAAAXNSR0IB2cksfwAAAAlwSFlzAAAOxAAADsQBlSsOGwAAADxJREFUOI3t1SESADAIA8Ewk/9/+TqtQxNXTiBXxGAECuZ7SlUJDMEDk3nBcZ4TvQXnOWC0FvxmQ4Jv4ADvTAlL2W8b0gAAAABJRU5ErkJggg==",
     "contentType": "image/png",
     "groupId": "0",
     "height": 20,
     "width": 20,
     "layerId": 10,
     "layerName": "Boundary"
    }
   ],
   "layerId": 10,
   "layerName": "Boundary",
   "serviceItemId": "96ed9c65f3c24634844378534f6b9a73"
  },
  {
   "id": 11,
   "name": "Footprint",
   "parentLayerId": 9,
   "defaultVisibility": false,
   "subLayerIds": null,
   "minScale": 0,
   "maxScale": 0,
   "type": "Feature Layer",
   "geometryType": "esriGeometryPolygon",
   "supportsDynamicLegends": true,
   "legend": [
    {
     "label": "",
     "imageData": "iVBORw0KGgoAAAANSUhEUgAAABQAAAAUCAYAAACNiR0NAAAAAXNSR0IB2cksfwAAAAlwSFlzAAAOxAAADsQBlSsOGwAAADtJREFUOI3t1SEOADAMQlGacP8rs2RT1eDGF5VPYEoIQjDeO5iIJuiBwVjQjj6xK+jHgLEq+M+Gyr2BA6LtBk3z6rXNAAAAAElFTkSuQmCC",
     "contentType": "image/png",
     "groupId": "0",
     "height": 20,
     "width": 20,
     "layerId": 11,
     "layerName": "Footprint"
    }
   ],
   "layerId": 11,
   "layerName": "Footprint",
   "serviceItemId": "96ed9c65f3c24634844378534f6b9a73"
  },
  {
   "id": 12,
   "name": "Image",
   "parentLayerId": 9,
   "defaultVisibility": true,
   "subLayerIds": null,
   "minScale": 0,
   "maxScale": 0,
   "type": "Raster Layer",
   "supportsDynamicLegends": true,
   "legend": [
    {
     "label": "Red: Band_1",
     "imageData": "iVBORw0KGgoAAAANSUhEUgAAABQAAAAUCAYAAACNiR0NAAAAAXNSR0IB2cksfwAAAAlwSFlzAAAOxAAADsQBlSsOGwAAADpJREFUOI1jYaAyYKGZgf/BiHzACEa0dCG1AAvVTIKCUQMpByxUMAMFjBpIOWAZwQYyQsszqhlILQAAYH8CU52rGmIAAAAASUVORK5CYII=",
     "contentType": "image/png",
     "groupId": "0",
     "height": 20,
     "width": 20,
     "layerId": 12,
     "layerName": "Image"
    },
    {
     "label": "Green: Band_2",
     "imageData": "iVBORw0KGgoAAAANSUhEUgAAABQAAAAUCAYAAACNiR0NAAAAAXNSR0IB2cksfwAAAAlwSFlzAAAOxAAADsQBlSsOGwAAADxJREFUOI3t1KENADAQQlEuYf+Vr6ZJg4Y6/gBPICDC8R+4WEsajIKhWNCOPqEV9GPAkAr6vQ3vn+XAUAdffgJT2ZduUQAAAABJRU5ErkJggg==",
     "contentType": "image/png",
     "groupId": "0",
     "height": 20,
     "width": 20,
     "layerId": 12,
     "layerName": "Image"
    },
    {
     "label": "Blue: Band_3",
     "imageData": "iVBORw0KGgoAAAANSUhEUgAAABQAAAAUCAYAAACNiR0NAAAAAXNSR0IB2cksfwAAAAlwSFlzAAAOxAAADsQBlSsOGwAAADxJREFUOI1jYaAyYKGhgf//U2YUIyOagdQBLKMGUgxYKDcCFYwaSDlgoYIZKGDUQMoBUhhCyjMqGkgdAABefQJTvDWKXAAAAABJRU5ErkJggg==",
     "contentType": "image/png",
     "groupId": "0",
     "height": 20,
     "width": 20,
     "layerId": 12,
     "layerName": "Image"
    }
   ],
   "layerId": 12,
   "layerName": "Image",
   "serviceItemId": "96ed9c65f3c24634844378534f6b9a73"
  },
  {
   "id": 13,
   "name": "DPK250",
   "parentLayerId": 0,
   "defaultVisibility": true,
   "subLayerIds": [
    14,
    15,
    16
   ],
   "minScale": 250000,
   "maxScale": 50001,
   "type": "Mosaic Layer",
   "supportsDynamicLegends": false,
   "layerId": 13,
   "layerName": "DPK250",
   "serviceItemId": "96ed9c65f3c24634844378534f6b9a73"
  },
  {
   "id": 14,
   "name": "Boundary",
   "parentLayerId": 13,
   "defaultVisibility": false,
   "subLayerIds": null,
   "minScale": 0,
   "maxScale": 0,
   "type": "Feature Layer",
   "geometryType": "esriGeometryPolygon",
   "supportsDynamicLegends": true,
   "legend": [
    {
     "label": "",
     "imageData": "iVBORw0KGgoAAAANSUhEUgAAABQAAAAUCAYAAACNiR0NAAAAAXNSR0IB2cksfwAAAAlwSFlzAAAOxAAADsQBlSsOGwAAADxJREFUOI3t1SESADAIA8Ewk/9/+TqtQxNXTiBXxGAECuZ7SlUJDMEDk3nBcZ4TvQXnOWC0FvxmQ4Jv4ADvTAlL2W8b0gAAAABJRU5ErkJggg==",
     "contentType": "image/png",
     "groupId": "0",
     "height": 20,
     "width": 20,
     "layerId": 14,
     "layerName": "Boundary"
    }
   ],
   "layerId": 14,
   "layerName": "Boundary",
   "serviceItemId": "96ed9c65f3c24634844378534f6b9a73"
  },
  {
   "id": 15,
   "name": "Footprint",
   "parentLayerId": 13,
   "defaultVisibility": false,
   "subLayerIds": null,
   "minScale": 0,
   "maxScale": 0,
   "type": "Feature Layer",
   "geometryType": "esriGeometryPolygon",
   "supportsDynamicLegends": true,
   "legend": [
    {
     "label": "",
     "imageData": "iVBORw0KGgoAAAANSUhEUgAAABQAAAAUCAYAAACNiR0NAAAAAXNSR0IB2cksfwAAAAlwSFlzAAAOxAAADsQBlSsOGwAAADtJREFUOI3t1SEOADAMQlGacP8rs2RT1eDGF5VPYEoIQjDeO5iIJuiBwVjQjj6xK+jHgLEq+M+Gyr2BA6LtBk3z6rXNAAAAAElFTkSuQmCC",
     "contentType": "image/png",
     "groupId": "0",
     "height": 20,
     "width": 20,
     "layerId": 15,
     "layerName": "Footprint"
    }
   ],
   "layerId": 15,
   "layerName": "Footprint",
   "serviceItemId": "96ed9c65f3c24634844378534f6b9a73"
  },
  {
   "id": 16,
   "name": "Image",
   "parentLayerId": 13,
   "defaultVisibility": true,
   "subLayerIds": null,
   "minScale": 0,
   "maxScale": 0,
   "type": "Raster Layer",
   "supportsDynamicLegends": true,
   "legend": [
    {
     "label": "Red: Band_1",
     "imageData": "iVBORw0KGgoAAAANSUhEUgAAABQAAAAUCAYAAACNiR0NAAAAAXNSR0IB2cksfwAAAAlwSFlzAAAOxAAADsQBlSsOGwAAADpJREFUOI1jYaAyYKGZgf/BiHzACEa0dCG1AAvVTIKCUQMpByxUMAMFjBpIOWAZwQYyQsszqhlILQAAYH8CU52rGmIAAAAASUVORK5CYII=",
     "contentType": "image/png",
     "groupId": "0",
     "height": 20,
     "width": 20,
     "layerId": 16,
     "layerName": "Image"
    },
    {
     "label": "Green: Band_2",
     "imageData": "iVBORw0KGgoAAAANSUhEUgAAABQAAAAUCAYAAACNiR0NAAAAAXNSR0IB2cksfwAAAAlwSFlzAAAOxAAADsQBlSsOGwAAADxJREFUOI3t1KENADAQQlEuYf+Vr6ZJg4Y6/gBPICDC8R+4WEsajIKhWNCOPqEV9GPAkAr6vQ3vn+XAUAdffgJT2ZduUQAAAABJRU5ErkJggg==",
     "contentType": "image/png",
     "groupId": "0",
     "height": 20,
     "width": 20,
     "layerId": 16,
     "layerName": "Image"
    },
    {
     "label": "Blue: Band_3",
     "imageData": "iVBORw0KGgoAAAANSUhEUgAAABQAAAAUCAYAAACNiR0NAAAAAXNSR0IB2cksfwAAAAlwSFlzAAAOxAAADsQBlSsOGwAAADxJREFUOI1jYaAyYKGhgf//U2YUIyOagdQBLKMGUgxYKDcCFYwaSDlgoYIZKGDUQMoBUhhCyjMqGkgdAABefQJTvDWKXAAAAABJRU5ErkJggg==",
     "contentType": "image/png",
     "groupId": "0",
     "height": 20,
     "width": 20,
     "layerId": 16,
     "layerName": "Image"
    }
   ],
   "layerId": 16,
   "layerName": "Image",
   "serviceItemId": "96ed9c65f3c24634844378534f6b9a73"
  },
  {
   "id": 17,
   "name": "DPK500",
   "parentLayerId": 0,
   "defaultVisibility": true,
   "subLayerIds": [
    18,
    19,
    20
   ],
   "minScale": 500000,
   "maxScale": 250001,
   "type": "Mosaic Layer",
   "supportsDynamicLegends": false,
   "layerId": 17,
   "layerName": "DPK500",
   "serviceItemId": "96ed9c65f3c24634844378534f6b9a73"
  },
  {
   "id": 18,
   "name": "Boundary",
   "parentLayerId": 17,
   "defaultVisibility": false,
   "subLayerIds": null,
   "minScale": 0,
   "maxScale": 0,
   "type": "Feature Layer",
   "geometryType": "esriGeometryPolygon",
   "supportsDynamicLegends": true,
   "legend": [
    {
     "label": "",
     "imageData": "iVBORw0KGgoAAAANSUhEUgAAABQAAAAUCAYAAACNiR0NAAAAAXNSR0IB2cksfwAAAAlwSFlzAAAOxAAADsQBlSsOGwAAADxJREFUOI3t1SESADAIA8Ewk/9/+TqtQxNXTiBXxGAECuZ7SlUJDMEDk3nBcZ4TvQXnOWC0FvxmQ4Jv4ADvTAlL2W8b0gAAAABJRU5ErkJggg==",
     "contentType": "image/png",
     "groupId": "0",
     "height": 20,
     "width": 20,
     "layerId": 18,
     "layerName": "Boundary"
    }
   ],
   "layerId": 18,
   "layerName": "Boundary",
   "serviceItemId": "96ed9c65f3c24634844378534f6b9a73"
  },
  {
   "id": 19,
   "name": "Footprint",
   "parentLayerId": 17,
   "defaultVisibility": false,
   "subLayerIds": null,
   "minScale": 0,
   "maxScale": 0,
   "type": "Feature Layer",
   "geometryType": "esriGeometryPolygon",
   "supportsDynamicLegends": true,
   "legend": [
    {
     "label": "",
     "imageData": "iVBORw0KGgoAAAANSUhEUgAAABQAAAAUCAYAAACNiR0NAAAAAXNSR0IB2cksfwAAAAlwSFlzAAAOxAAADsQBlSsOGwAAADtJREFUOI3t1SEOADAMQlGacP8rs2RT1eDGF5VPYEoIQjDeO5iIJuiBwVjQjj6xK+jHgLEq+M+Gyr2BA6LtBk3z6rXNAAAAAElFTkSuQmCC",
     "contentType": "image/png",
     "groupId": "0",
     "height": 20,
     "width": 20,
     "layerId": 19,
     "layerName": "Footprint"
    }
   ],
   "layerId": 19,
   "layerName": "Footprint",
   "serviceItemId": "96ed9c65f3c24634844378534f6b9a73"
  },
  {
   "id": 20,
   "name": "Image",
   "parentLayerId": 17,
   "defaultVisibility": true,
   "subLayerIds": null,
   "minScale": 0,
   "maxScale": 0,
   "type": "Raster Layer",
   "supportsDynamicLegends": true,
   "legend": [
    {
     "label": "Red: Band_1",
     "imageData": "iVBORw0KGgoAAAANSUhEUgAAABQAAAAUCAYAAACNiR0NAAAAAXNSR0IB2cksfwAAAAlwSFlzAAAOxAAADsQBlSsOGwAAADpJREFUOI1jYaAyYKGZgf/BiHzACEa0dCG1AAvVTIKCUQMpByxUMAMFjBpIOWAZwQYyQsszqhlILQAAYH8CU52rGmIAAAAASUVORK5CYII=",
     "contentType": "image/png",
     "groupId": "0",
     "height": 20,
     "width": 20,
     "layerId": 20,
     "layerName": "Image"
    },
    {
     "label": "Green: Band_2",
     "imageData": "iVBORw0KGgoAAAANSUhEUgAAABQAAAAUCAYAAACNiR0NAAAAAXNSR0IB2cksfwAAAAlwSFlzAAAOxAAADsQBlSsOGwAAADxJREFUOI3t1KENADAQQlEuYf+Vr6ZJg4Y6/gBPICDC8R+4WEsajIKhWNCOPqEV9GPAkAr6vQ3vn+XAUAdffgJT2ZduUQAAAABJRU5ErkJggg==",
     "contentType": "image/png",
     "groupId": "0",
     "height": 20,
     "width": 20,
     "layerId": 20,
     "layerName": "Image"
    },
    {
     "label": "Blue: Band_3",
     "imageData": "iVBORw0KGgoAAAANSUhEUgAAABQAAAAUCAYAAACNiR0NAAAAAXNSR0IB2cksfwAAAAlwSFlzAAAOxAAADsQBlSsOGwAAADxJREFUOI1jYaAyYKGhgf//U2YUIyOagdQBLKMGUgxYKDcCFYwaSDlgoYIZKGDUQMoBUhhCyjMqGkgdAABefQJTvDWKXAAAAABJRU5ErkJggg==",
     "contentType": "image/png",
     "groupId": "0",
     "height": 20,
     "width": 20,
     "layerId": 20,
     "layerName": "Image"
    }
   ],
   "layerId": 20,
   "layerName": "Image",
   "serviceItemId": "96ed9c65f3c24634844378534f6b9a73"
  },
  {
   "id": 21,
   "name": "DPK1000",
   "parentLayerId": 0,
   "defaultVisibility": true,
   "subLayerIds": [
    22,
    23,
    24
   ],
   "minScale": 0,
   "maxScale": 500001,
   "type": "Mosaic Layer",
   "supportsDynamicLegends": false,
   "layerId": 21,
   "layerName": "DPK1000",
   "serviceItemId": "96ed9c65f3c24634844378534f6b9a73"
  },
  {
   "id": 22,
   "name": "Boundary",
   "parentLayerId": 21,
   "defaultVisibility": false,
   "subLayerIds": null,
   "minScale": 0,
   "maxScale": 0,
   "type": "Feature Layer",
   "geometryType": "esriGeometryPolygon",
   "supportsDynamicLegends": true,
   "legend": [
    {
     "label": "",
     "imageData": "iVBORw0KGgoAAAANSUhEUgAAABQAAAAUCAYAAACNiR0NAAAAAXNSR0IB2cksfwAAAAlwSFlzAAAOxAAADsQBlSsOGwAAADtJREFUOI3t1SEOADAMQlGWcP8rs6yuGtx4aSq/qCkFCEF868z4BGiCSWzQRj+xNehjoLE0+M0NFXwDF6XrBk23R73BAAAAAElFTkSuQmCC",
     "contentType": "image/png",
     "groupId": "0",
     "height": 20,
     "width": 20,
     "layerId": 22,
     "layerName": "Boundary"
    }
   ],
   "layerId": 22,
   "layerName": "Boundary",
   "serviceItemId": "96ed9c65f3c24634844378534f6b9a73"
  },
  {
   "id": 23,
   "name": "Footprint",
   "parentLayerId": 21,
   "defaultVisibility": false,
   "subLayerIds": null,
   "minScale": 0,
   "maxScale": 0,
   "type": "Feature Layer",
   "geometryType": "esriGeometryPolygon",
   "supportsDynamicLegends": true,
   "legend": [
    {
     "label": "",
     "imageData": "iVBORw0KGgoAAAANSUhEUgAAABQAAAAUCAYAAACNiR0NAAAAAXNSR0IB2cksfwAAAAlwSFlzAAAOxAAADsQBlSsOGwAAADtJREFUOI3t1SEOADAMQlGacP8rs2RT1eDGF5VPYEoIQjDeO5iIJuiBwVjQjj6xK+jHgLEq+M+Gyr2BA6LtBk3z6rXNAAAAAElFTkSuQmCC",
     "contentType": "image/png",
     "groupId": "0",
     "height": 20,
     "width": 20,
     "layerId": 23,
     "layerName": "Footprint"
    }
   ],
   "layerId": 23,
   "layerName": "Footprint",
   "serviceItemId": "96ed9c65f3c24634844378534f6b9a73"
  },
  {
   "id": 24,
   "name": "Image",
   "parentLayerId": 21,
   "defaultVisibility": true,
   "subLayerIds": null,
   "minScale": 0,
   "maxScale": 0,
   "type": "Raster Layer",
   "supportsDynamicLegends": true,
   "legend": [
    {
     "label": "Red: Band_1",
     "imageData": "iVBORw0KGgoAAAANSUhEUgAAABQAAAAUCAYAAACNiR0NAAAAAXNSR0IB2cksfwAAAAlwSFlzAAAOxAAADsQBlSsOGwAAADpJREFUOI1jYaAyYKGZgf/BiHzACEa0dCG1AAvVTIKCUQMpByxUMAMFjBpIOWAZwQYyQsszqhlILQAAYH8CU52rGmIAAAAASUVORK5CYII=",
     "contentType": "image/png",
     "groupId": "0",
     "height": 20,
     "width": 20,
     "layerId": 24,
     "layerName": "Image"
    },
    {
     "label": "Green: Band_2",
     "imageData": "iVBORw0KGgoAAAANSUhEUgAAABQAAAAUCAYAAACNiR0NAAAAAXNSR0IB2cksfwAAAAlwSFlzAAAOxAAADsQBlSsOGwAAADxJREFUOI3t1KENADAQQlEuYf+Vr6ZJg4Y6/gBPICDC8R+4WEsajIKhWNCOPqEV9GPAkAr6vQ3vn+XAUAdffgJT2ZduUQAAAABJRU5ErkJggg==",
     "contentType": "image/png",
     "groupId": "0",
     "height": 20,
     "width": 20,
     "layerId": 24,
     "layerName": "Image"
    },
    {
     "label": "Blue: Band_3",
     "imageData": "iVBORw0KGgoAAAANSUhEUgAAABQAAAAUCAYAAACNiR0NAAAAAXNSR0IB2cksfwAAAAlwSFlzAAAOxAAADsQBlSsOGwAAADxJREFUOI1jYaAyYKGhgf//U2YUIyOagdQBLKMGUgxYKDcCFYwaSDlgoYIZKGDUQMoBUhhCyjMqGkgdAABefQJTvDWKXAAAAABJRU5ErkJggg==",
     "contentType": "image/png",
     "groupId": "0",
     "height": 20,
     "width": 20,
     "layerId": 24,
     "layerName": "Image"
    }
   ],
   "layerId": 24,
   "layerName": "Image",
   "serviceItemId": "96ed9c65f3c24634844378534f6b9a73"
  }
 ],
 "initialExtent": {
  "xmin": 339655.0751347181,
  "ymin": 4221.2615308351815,
  "xmax": 640325.3237731736,
  "ymax": 218833.35380697716,
  "spatialReference": {
   "wkid": 3794,
   "latestWkid": 3794,
   "vcsWkid": 5195,
   "latestVcsWkid": 5195
  }
 },
 "fullExtent": {
  "xmin": 339655.0751347181,
  "ymin": 4221.2615308351815,
  "xmax": 640325.3237731736,
  "ymax": 218833.35380697716,
  "spatialReference": {
   "wkid": 3794,
   "latestWkid": 3794,
   "vcsWkid": 5195,
   "latestVcsWkid": 5195
  }
 },
 "minScale": 0,
 "maxScale": 0,
 "exportTilesAllowed": false,
 "maxExportTilesCount": 0,
 "currentVersion": 11.4,
 "mapName": "Layers",
 "singleFusedMapCache": true,
 "type": "MapServer",
 "supportedExtensions": "",
 "capabilities": "TilesOnly,Tilemap",
 "serviceItemId": "96ed9c65f3c24634844378534f6b9a73"
}
