{
 "version": 1.0,
 "tileBundlesPath": "./tile",
 "storageInfo": {
  "packetSize": 128,
  "storageFormat": "esriMapCacheStorageModeCompactV2"
 },
 "tileImageInfo": {
  "format": "MIXED",
  "compressionQuality": 75,
  "bandCount": 1,
  "lercError": 0
 },
 "tileInfo": {
  "spatialReference": {
   "wkid": 3794,
   "latestWkid": 3794
  },
  "origin": {
   "x": -5122600,
   "y": 5001100
  },
  "rows": 256,
  "cols": 256,
  "dpi": 96,
  "lods": [
   {
    "level": 0,
    "resolution": 138718.1441029549,
    "scale": 524288000
   },
   {
    "level": 1,
    "resolution": 69359.07205147744,
    "scale": 262144000
   },
   {
    "level": 2,
    "resolution": 34679.53602573872,
    "scale": 131072000
   },
   {
    "level": 3,
    "resolution": 17339.76801286936,
    "scale": 65536000
   },
   {
    "level": 4,
    "resolution": 8669.88400643468,
    "scale": 32768000
   },
   {
    "level": 5,
    "resolution": 4334.94200321734,
    "scale": 16384000
   },
   {
    "level": 6,
    "resolution": 2167.47100160867,
    "scale": 8192000
   },
   {
    "level": 7,
    "resolution": 1083.735500804335,
    "scale": 4096000
   },
   {
    "level": 8,
    "resolution": 541.8677504021675,
    "scale": 2048000
   },
   {
    "level": 9,
    "resolution": 270.93387520108377,
    "scale": 1024000
   },
   {
    "level": 10,
    "resolution": 135.46693760054188,
    "scale": 512000
   },
   {
    "level": 11,
    "resolution": 67.73346880027094,
    "scale": 256000
   },
   {
    "level": 12,
    "resolution": 33.86673440013547,
    "scale": 128000
   },
   {
    "level": 13,
    "resolution": 16.933367200067735,
    "scale": 64000
   },
   {
    "level": 14,
    "resolution": 8.466683600033868,
    "scale": 32000
   },
   {
    "level": 15,
    "resolution": 4.233341800016934,
    "scale": 16000
   },
   {
    "level": 16,
    "resolution": 2.116670900008467,
    "scale": 8000
   },
   {
    "level": 17,
    "resolution": 1.0583354500042335,
    "scale": 4000
   },
   {
    "level": 18,
    "resolution": 0.5291677250021167,
    "scale": 2000
   },
   {
    "level": 19,
    "resolution": 0.26458386250105836,
    "scale": 1000
   },
   {
    "level": 20,
    "resolution": 0.13229193125052918,
    "scale": 500
   },
   {
    "level": 21,
    "resolution": 0.06614596562526459,
    "scale": 250
   },
   {
    "level": 22,
    "resolution": 0.033072982812632296,
    "scale": 125
   },
   {
    "level": 23,
    "resolution": 0.016536491406316148,
    "scale": 62.5
   }
  ],
  "format": "MIXED",
  "compressionQuality": 75,
  "bandCount": 1,
  "lercError": 0,
  "storageFormat": "esriMapCacheStorageModeCompactV2",
  "packetSize": 128
 },
 "name": "Map",
 "serviceDescription": "",
 "spatialReference": {
  "wkid": 3794,
  "latestWkid": 3794,
  "xyTolerance": 0.001,
  "zTolerance": 0.001,
  "mTolerance": 0.001,
  "falseX": -5122600,
  "falseY": -15001100,
  "xyUnits": 10000,
  "falseZ": -100000,
  "zUnits": 10000,
  "falseM": -100000,
  "mUnits": 10000
 },
 "units": "esriMeters",
 "minLOD": 0,
 "maxLOD": 18,
 "resampling": true,
 "layers": [
  {
   "id": 0,
   "name": "DMR05_Sencen_D96.tif",
   "parentLayerId": -1,
   "defaultVisibility": true,
   "subLayerIds": null,
   "minScale": 0,
   "maxScale": 0,
   "type": "Raster Layer",
   "supportsDynamicLegends": true,
   "legend": [
    {
     "label": "254 - 0",
     "imageData": "iVBORw0KGgoAAAANSUhEUgAAABQAAAA8CAYAAABmdppWAAAACXBIWXMAAA7EAAAOxAGVKw4bAAAAXElEQVRYhe3UwQkAMQwDwTy2/4YlcleE/AhYW4CJJ2Duvd8ZDNuT8w6Sztsv9PMDtc9Q+1Z2DdOoYRw1jKPnK46FhppeWfsM/fynuCunUcM4ahhHDePoxY5jn+EPhDiy86pHgCsAAAAASUVORK5CYII=",
     "contentType": "image/png",
     "groupId": "0",
     "height": 60,
     "width": 20,
     "layerId": 0,
     "layerName": "DMR05_Sencen_D96.tif"
    }
   ],
   "layerId": 0,
   "layerName": "DMR05_Sencen_D96.tif",
   "serviceItemId": "0b583054997f42b6b86bde6924347a9e"
  }
 ],
 "initialExtent": {
  "xmin": 374597.46,
  "ymin": 31043.429999999993,
  "xmax": 623999.96,
  "ymax": 194007.92999999996,
  "spatialReference": {
   "wkid": 3794,
   "latestWkid": 3794
  }
 },
 "fullExtent": {
  "xmin": 374597.46,
  "ymin": 31043.429999999993,
  "xmax": 623999.96,
  "ymax": 194007.92999999996,
  "spatialReference": {
   "wkid": 3794,
   "latestWkid": 3794
  }
 },
 "minScale": 0,
 "maxScale": 0,
 "exportTilesAllowed": false,
 "maxExportTilesCount": 0,
 "currentVersion": 11.4,
 "mapName": "Map",
 "singleFusedMapCache": true,
 "type": "MapServer",
 "supportedExtensions": "",
 "capabilities": "TilesOnly,Tilemap",
 "serviceItemId": "0b583054997f42b6b86bde6924347a9e"
}
